BEGIN:VCALENDAR
VERSION:2.0
PRODID:-//Shiawassee Arts Center - ECPv6.2.0.1//NONSGML v1.0//EN
CALSCALE:GREGORIAN
METHOD:PUBLISH
X-WR-CALNAME:Shiawassee Arts Center
X-ORIGINAL-URL:https://shiawasseearts.org
X-WR-CALDESC:Events for Shiawassee Arts Center
REFRESH-INTERVAL;VALUE=DURATION:PT1H
X-Robots-Tag:noindex
X-PUBLISHED-TTL:PT1H
BEGIN:VTIMEZONE
TZID:America/New_York
BEGIN:DAYLIGHT
TZOFFSETFROM:-0500
TZOFFSETTO:-0400
TZNAME:EDT
DTSTART:20200308T070000
END:DAYLIGHT
BEGIN:STANDARD
TZOFFSETFROM:-0400
TZOFFSETTO:-0500
TZNAME:EST
DTSTART:20201101T060000
END:STANDARD
BEGIN:DAYLIGHT
TZOFFSETFROM:-0500
TZOFFSETTO:-0400
TZNAME:EDT
DTSTART:20210314T070000
END:DAYLIGHT
BEGIN:STANDARD
TZOFFSETFROM:-0400
TZOFFSETTO:-0500
TZNAME:EST
DTSTART:20211107T060000
END:STANDARD
BEGIN:DAYLIGHT
TZOFFSETFROM:-0500
TZOFFSETTO:-0400
TZNAME:EDT
DTSTART:20220313T070000
END:DAYLIGHT
BEGIN:STANDARD
TZOFFSETFROM:-0400
TZOFFSETTO:-0500
TZNAME:EST
DTSTART:20221106T060000
END:STANDARD
BEGIN:DAYLIGHT
TZOFFSETFROM:-0500
TZOFFSETTO:-0400
TZNAME:EDT
DTSTART:20230312T070000
END:DAYLIGHT
BEGIN:STANDARD
TZOFFSETFROM:-0400
TZOFFSETTO:-0500
TZNAME:EST
DTSTART:20231105T060000
END:STANDARD
END:VTIMEZONE
BEGIN:VEVENT
DTSTART;TZID=America/New_York:20230604T150000
DTEND;TZID=America/New_York:20230604T150000
DTSTAMP:20260424T042024
CREATED:20230524T145359Z
LAST-MODIFIED:20230524T145359Z
UID:39638-1685890800-1685890800@shiawasseearts.org
SUMMARY:Curwood Castle Drawing
DESCRIPTION:
URL:https://shiawasseearts.org/event/curwood-castle-drawing/
LOCATION:Shiawassee Arts Center\, 206 Curwood Castle Drive\, Owosso\, MI\, 48867\, United States
END:VEVENT
BEGIN:VEVENT
DTSTART;TZID=America/New_York:20230601T120000
DTEND;TZID=America/New_York:20230604T170000
DTSTAMP:20260424T042024
CREATED:20230524T145607Z
LAST-MODIFIED:20230524T145607Z
UID:39639-1685620800-1685898000@shiawasseearts.org
SUMMARY:Curwood Festival in Curwood Castle Park
DESCRIPTION:
URL:https://shiawasseearts.org/event/curwood-festival-in-curwood-castle-park/
LOCATION:Shiawassee Arts Center\, 206 Curwood Castle Drive\, Owosso\, MI\, 48867\, United States
END:VEVENT
BEGIN:VEVENT
DTSTART;TZID=America/New_York:20230529T080000
DTEND;TZID=America/New_York:20230529T170000
DTSTAMP:20260424T042024
CREATED:20230524T145045Z
LAST-MODIFIED:20230524T145045Z
UID:39637-1685347200-1685379600@shiawasseearts.org
SUMMARY:Closed for Memorial Day
DESCRIPTION:
URL:https://shiawasseearts.org/event/closed-for-memorial-day/
LOCATION:MI
END:VEVENT
BEGIN:VEVENT
DTSTART;TZID=America/New_York:20230505T170000
DTEND;TZID=America/New_York:20230505T190000
DTSTAMP:20260424T042024
CREATED:20230328T172019Z
LAST-MODIFIED:20230328T172019Z
UID:33973-1683306000-1683313200@shiawasseearts.org
SUMMARY:Artist Member Show Reception
DESCRIPTION:
URL:https://shiawasseearts.org/event/artist-member-show-reception/
LOCATION:MI
END:VEVENT
BEGIN:VEVENT
DTSTART;TZID=America/New_York:20230430T130000
DTEND;TZID=America/New_York:20230430T150000
DTSTAMP:20260424T042024
CREATED:20230328T171932Z
LAST-MODIFIED:20230328T171932Z
UID:33972-1682859600-1682866800@shiawasseearts.org
SUMMARY:High School Scholarship show Reception
DESCRIPTION:
URL:https://shiawasseearts.org/event/high-school-scholarship-show-reception/
LOCATION:MI
END:VEVENT
BEGIN:VEVENT
DTSTART;TZID=America/New_York:20230426T080000
DTEND;TZID=America/New_York:20230430T170000
DTSTAMP:20260424T042024
CREATED:20230328T171429Z
LAST-MODIFIED:20230328T171429Z
UID:33967-1682496000-1682874000@shiawasseearts.org
SUMMARY:High School Scholarship Show
DESCRIPTION:
URL:https://shiawasseearts.org/event/high-school-scholarship-show/
LOCATION:Shiawassee Arts Center\, 206 Curwood Castle Drive\, Owosso\, MI\, 48867\, United States
END:VEVENT
BEGIN:VEVENT
DTSTART;TZID=America/New_York:20230328T080000
DTEND;TZID=America/New_York:20230423T170000
DTSTAMP:20260424T042024
CREATED:20230328T171319Z
LAST-MODIFIED:20230328T171319Z
UID:33966-1679990400-1682269200@shiawasseearts.org
SUMMARY:Lino Ladies\, Ann Lee Merrill\, and Shiawassee Artists' Guild Exhibit
DESCRIPTION:
URL:https://shiawasseearts.org/event/lino-ladies-ann-lee-merrill-and-shiawassee-artists-guild-exhibit/
LOCATION:Shiawassee Arts Center\, 206 Curwood Castle Drive\, Owosso\, MI\, 48867\, United States
END:VEVENT
BEGIN:VEVENT
DTSTART;TZID=America/New_York:20221221T120000
DTEND;TZID=America/New_York:20221221T140000
DTSTAMP:20260424T042024
CREATED:20221221T164358Z
LAST-MODIFIED:20221221T164359Z
UID:25755-1671624000-1671631200@shiawasseearts.org
SUMMARY:"A Step Back in Time"\, By Piper Brewer\, Book Signing
DESCRIPTION:
URL:https://shiawasseearts.org/event/a-step-back-in-time-by-piper-brewer-book-signing/
LOCATION:Shiawassee Arts Center\, 206 Curwood Castle Drive\, Owosso\, MI\, 48867\, United States
END:VEVENT
BEGIN:VEVENT
DTSTART;TZID=America/New_York:20221106T130000
DTEND;TZID=America/New_York:20221106T150000
DTSTAMP:20260424T042024
CREATED:20221010T170251Z
LAST-MODIFIED:20221010T170251Z
UID:18007-1667739600-1667746800@shiawasseearts.org
SUMMARY:"A Step Back in Time" Book Signing
DESCRIPTION:
URL:https://shiawasseearts.org/event/a-step-back-in-time-book-signing/
LOCATION:Shiawassee Arts Center\, 206 Curwood Castle Drive\, Owosso\, MI\, 48867\, United States
CATEGORIES:Exhibitions
END:VEVENT
BEGIN:VEVENT
DTSTART;TZID=America/New_York:20221106T100000
DTEND;TZID=America/New_York:20221231T170000
DTSTAMP:20260424T042024
CREATED:20221013T143402Z
LAST-MODIFIED:20221013T143402Z
UID:18071-1667728800-1672506000@shiawasseearts.org
SUMMARY:34th Annual Holiday Show
DESCRIPTION:
URL:https://shiawasseearts.org/event/34th-annual-holiday-show/
LOCATION:MI
CATEGORIES:Exhibitions
END:VEVENT
BEGIN:VEVENT
DTSTART;TZID=America/New_York:20221030T120000
DTEND;TZID=America/New_York:20221030T160000
DTSTAMP:20260424T042024
CREATED:20221013T143247Z
LAST-MODIFIED:20221013T143247Z
UID:18070-1667131200-1667145600@shiawasseearts.org
SUMMARY:End of Member Show
DESCRIPTION:
URL:https://shiawasseearts.org/event/end-of-member-show/
LOCATION:MI
CATEGORIES:Exhibitions
END:VEVENT
BEGIN:VEVENT
DTSTART;TZID=America/New_York:20221023T130000
DTEND;TZID=America/New_York:20221023T143000
DTSTAMP:20260424T042024
CREATED:20221013T143515Z
LAST-MODIFIED:20221013T143603Z
UID:18072-1666530000-1666535400@shiawasseearts.org
SUMMARY:Raise Up Shiawassee Historical Walking Tour
DESCRIPTION:
URL:https://shiawasseearts.org/event/raise-up-shiawassee-historical-walking-tour/
LOCATION:MI
CATEGORIES:Exhibitions,Fundraiser
END:VEVENT
BEGIN:VEVENT
DTSTART;TZID=America/New_York:20221015T100000
DTEND;TZID=America/New_York:20221015T113000
DTSTAMP:20260424T042024
CREATED:20221013T143145Z
LAST-MODIFIED:20221013T143145Z
UID:18069-1665828000-1665833400@shiawasseearts.org
SUMMARY:Family Pumpkin Paint-a-thon
DESCRIPTION:
URL:https://shiawasseearts.org/event/family-pumpkin-paint-a-thon/
LOCATION:MI
CATEGORIES:Youth Classes
END:VEVENT
BEGIN:VEVENT
DTSTART;TZID=America/New_York:20211107T100000
DTEND;TZID=America/New_York:20211231T170000
DTSTAMP:20260424T042024
CREATED:20211011T171051Z
LAST-MODIFIED:20211011T171051Z
UID:14257-1636279200-1640970000@shiawasseearts.org
SUMMARY:33rd Annual Holiday at the Center
DESCRIPTION:
URL:https://shiawasseearts.org/event/33rd-annual-holiday-at-the-center/
LOCATION:MI
CATEGORIES:Exhibitions
END:VEVENT
BEGIN:VEVENT
DTSTART;TZID=America/New_York:20210912T130000
DTEND;TZID=America/New_York:20210912T150000
DTSTAMP:20260424T042024
CREATED:20210330T154350Z
LAST-MODIFIED:20210330T154808Z
UID:12782-1631451600-1631458800@shiawasseearts.org
SUMMARY:Meet the Artist Event 1-3pm
DESCRIPTION:The Shiawassee Arts Center opens its fifth exhibit of 2021 featuring the work of artists Marti Liddle-Lameti and Robert Doran-Brockway of Owosso\, Glen Lewis of St. Johns\, and Shiawassee Artists’ Guild. The exhibit runs September 8th through October 31st. The public is welcome to attend the ‘Meet the Artist’ event on Sunday\, September 12th\, from 1 – 3pm.
URL:https://shiawasseearts.org/event/meet-the-artist-event-1-3pm-2/
LOCATION:MI
CATEGORIES:Exhibitions
END:VEVENT
BEGIN:VEVENT
DTSTART;TZID=America/New_York:20210908T100000
DTEND;TZID=America/New_York:20211031T160000
DTSTAMP:20260424T042024
CREATED:20210330T151630Z
LAST-MODIFIED:20210330T152813Z
UID:12780-1631095200-1635696000@shiawasseearts.org
SUMMARY:Exhibit #5 September 8- October 31st
DESCRIPTION:The Shiawassee Arts Center opens its Fifth exhibit of 2021 featuring the work of artists Marti Liddle-Lameti and Robert Doran-Brockway of Owosso\, Glen Lewis of St. Johns\, and Shiawassee Artists’ Guild. The exhibit runs May 4th through June 20th. The public is welcome to attend the ‘Meet the Artist’ event on Sunday\, September 12th\, from 1 – 3pm.
URL:https://shiawasseearts.org/event/exhibit-5-september-8-october-31st/
LOCATION:MI
END:VEVENT
BEGIN:VEVENT
DTSTART;TZID=America/New_York:20210627T130000
DTEND;TZID=America/New_York:20210627T150000
DTSTAMP:20260424T042024
CREATED:20210330T151020Z
LAST-MODIFIED:20210330T154650Z
UID:12779-1624798800-1624806000@shiawasseearts.org
SUMMARY:Meet the Artists 1-3pm
DESCRIPTION:Member Show Awards and Meet the Artist Event 1-3pm
URL:https://shiawasseearts.org/event/meet-the-reception-1-3pm/
LOCATION:MI
CATEGORIES:Exhibitions
END:VEVENT
BEGIN:VEVENT
DTSTART;TZID=America/New_York:20210622T100000
DTEND;TZID=America/New_York:20210905T160000
DTSTAMP:20260424T042024
CREATED:20210330T150126Z
LAST-MODIFIED:20210330T150126Z
UID:12777-1624356000-1630857600@shiawasseearts.org
SUMMARY:Member Show June 22- Sept 5th
DESCRIPTION:
URL:https://shiawasseearts.org/event/member-show-june-22-sept-5th/
LOCATION:MI
END:VEVENT
BEGIN:VEVENT
DTSTART;TZID=America/New_York:20210509T130000
DTEND;TZID=America/New_York:20210509T150000
DTSTAMP:20260424T042024
CREATED:20210330T150359Z
LAST-MODIFIED:20210330T154555Z
UID:12778-1620565200-1620572400@shiawasseearts.org
SUMMARY:Meet the Artist Event 1-3pm
DESCRIPTION:The Shiawassee Arts Center opens its Third exhibit of 2021 featuring the work of artists Kimberly DeVoe and David DeVoe of Grand Blanc\, Jennifer Ross of Corunna\, Karl Racenis of Owosso\, Sheila Murphy of Farwell. The exhibit runs May 4th through June 20th. The public is welcome to attend the ‘Meet the Artist’ event on Sunday\, May 9th\, from 1 – 3pm.
URL:https://shiawasseearts.org/event/meet-the-artist-event-1-3pm/
LOCATION:MI
CATEGORIES:Exhibitions
END:VEVENT
BEGIN:VEVENT
DTSTART;TZID=America/New_York:20210504T100000
DTEND;TZID=America/New_York:20210620T160000
DTSTAMP:20260424T042024
CREATED:20210330T145658Z
LAST-MODIFIED:20210330T145745Z
UID:12776-1620122400-1624204800@shiawasseearts.org
SUMMARY:Exhibit #3 May 4- June 20th
DESCRIPTION:The Shiawassee Arts Center opens its Third exhibit of 2021 featuring the work of artists Kimberly DeVoe and David DeVoe of Grand Blanc\, Jennifer Ross of Corunna\, Karl Racenis of Owosso\, Sheila Murphy of Farwell. The exhibit runs May 4th through June 20th. The public is welcome to attend the ‘Meet the Artist’ event on Sunday\, May 9th\, from 1 – 3pm.
URL:https://shiawasseearts.org/event/exhibit-3-may-4-june-20th/
LOCATION:MI
END:VEVENT
BEGIN:VEVENT
DTSTART;TZID=America/New_York:20210428T100000
DTEND;TZID=America/New_York:20210502T160000
DTSTAMP:20260424T042024
CREATED:20210330T144738Z
LAST-MODIFIED:20210330T144738Z
UID:12775-1619604000-1619971200@shiawasseearts.org
SUMMARY:Countywide High School Scholarship Show & Competition
DESCRIPTION:
URL:https://shiawasseearts.org/event/countywide-high-school-scholarship-show-competition/
LOCATION:MI
CATEGORIES:Exhibitions
END:VEVENT
BEGIN:VEVENT
DTSTART;TZID=America/New_York:20210316T100000
DTEND;TZID=America/New_York:20210425T160000
DTSTAMP:20260424T042024
CREATED:20210330T144303Z
LAST-MODIFIED:20210330T144829Z
UID:12774-1615888800-1619366400@shiawasseearts.org
SUMMARY:Exhibit #2 March 16- April 25th
DESCRIPTION:The Shiawassee Arts Center opens its Second exhibit of 2021 featuring the work of artists Rhonda Sherwin of Williamston\, Pamela Wilburn of Dimondale\, Joel Ellis of Haslett\, Jane Reiter of Lansing\, Sheryl Stephens of Holt. The exhibit\, which runs March 16 through April 25\, is generously sponsored by Hon. & Mrs. Gerald Lostracco . The public is welcome to make an appointment to attend the ‘Meet the Artist’ event on Sunday\, March 21 from noon – 4pm.
URL:https://shiawasseearts.org/event/exhibit-2-march-16-april-25th/
LOCATION:MI
CATEGORIES:Exhibitions
END:VEVENT
BEGIN:VEVENT
DTSTART;TZID=America/New_York:20210202T080000
DTEND;TZID=America/New_York:20210314T170000
DTSTAMP:20260424T042024
CREATED:20210118T174312Z
LAST-MODIFIED:20210118T174459Z
UID:11262-1612252800-1615741200@shiawasseearts.org
SUMMARY:Feb 2 - March 14th Exhibit
DESCRIPTION:The Shiawassee Arts Center is excited for the opening of its first exhibit of 2021 featuring the work of artists Deb Cholewicki of Lansing\, Barbara Hranilovich of Lansing\, Randal Crawford of Saginaw and Angela Hamilton of Grand Blanc.  The exhibit\, which opens February 2 and will run through March 14\, is generously sponsored by American Speedy Printing and Getzen & Connell\, CPAs. The public is welcome to attend the ‘Meet the Artist’ event on Sunday\, February 7 from 1-3pm. \nCholewicki\, a fiber artist\, creates free-form sculptural weavings from natural fibers\, plant materials and yarns bringing her tremendous joy. She loves the process of creating and seeing how each piece evolves and tells a story. Deb has taught sculptural weaving for more than 20 years including several years at Blue Lake Fine Arts Camp. For more than 10 years she managed Grove Gallery & Studios in East Lansing where she also taught classes and had her work studio. \nHranilovich has been an artist since she could walk enough to draw on the walls. She made it formal with a BFA in oil painting and went on to experience a career puzzled with illustration\, teaching and fine art. As a commercial illustrator she has created works for children’s books and toys\, advertising\, editorial\, and commercial interiors (like Biggby wall art). As a fine artist she explores a variety of media – acrylics\, oils\, ceramics\, encaustic – each of which brings something intriguing and unique to her creative table.  \nCrawford\, a 26 year Professor of Art at Delta College\, holds an MFA in fibers from Cranbrook Academy of Art (1987) and a BFA in fibers from Philadelphia College of Art (1984). He also attended the Graduate Studies Program at Banff Center School in Alberta\, Canada (1985).  Randal has had numerous one-person shows throughout the nation. His original and innovative art is a part of private\, corporate\, and institutional permanent collections. \nHamilton\, an award-winning artist\, is a graduate from Michigan State University with Bachelor Degrees in General Business and Advertising. She was not happy with her assigned career direction and was compelled to work in art. In 2011 she continued her art studies at the Flint Institute of Arts. Angela is currently working in acrylics\, but also exploring other techniques and mediums like daily painting\, still-life painting\, pastels and graphites \nThe Shiawassee Arts Center\, located at 206 Curwood Castle Drive in Owosso\, is open Monday through Friday 10-5pm\, Saturday and Sunday 12-4pm. The Arts Center features the artwork of local and statewide artists in eight galleries including the Frieseke Gallery and a specialty Gift Shop. The public is welcome and there is no admission charge. SAC\, which is celebrating its 49th anniversary in 2021\, is a non-profit organization whose mission is to encourage participation and appreciation of the arts. For more information call the Arts Center at 989.723.8354 or visit www.shiawasseearts.org.
URL:https://shiawasseearts.org/event/feb-2-march-14th-exhibit/
LOCATION:MI
END:VEVENT
BEGIN:VEVENT
DTSTART;VALUE=DATE:20210101
DTEND;VALUE=DATE:20210102
DTSTAMP:20260424T042024
CREATED:20201230T201608Z
LAST-MODIFIED:20201230T201608Z
UID:11075-1609459200-1609545599@shiawasseearts.org
SUMMARY:CLOSED
DESCRIPTION:
URL:https://shiawasseearts.org/event/closed/
LOCATION:MI
END:VEVENT
BEGIN:VEVENT
DTSTART;TZID=America/New_York:20201231T090000
DTEND;TZID=America/New_York:20201231T150000
DTSTAMP:20260424T042024
CREATED:20201102T180912Z
LAST-MODIFIED:20201102T180912Z
UID:9973-1609405200-1609426800@shiawasseearts.org
SUMMARY:New years Eve Open 9am-3pm
DESCRIPTION:
URL:https://shiawasseearts.org/event/new-years-eve-open-9am-3pm/
LOCATION:MI
END:VEVENT
BEGIN:VEVENT
DTSTART;TZID=America/New_York:20201226T090000
DTEND;TZID=America/New_York:20201231T170000
DTSTAMP:20260424T042024
CREATED:20201102T180656Z
LAST-MODIFIED:20201102T181140Z
UID:9972-1608973200-1609434000@shiawasseearts.org
SUMMARY:20% off Sale! December 26th-31st!
DESCRIPTION:
URL:https://shiawasseearts.org/event/20-off-sale-december-26th-31st/
LOCATION:MI
END:VEVENT
BEGIN:VEVENT
DTSTART;TZID=America/New_York:20201225T080000
DTEND;TZID=America/New_York:20201225T170000
DTSTAMP:20260424T042024
CREATED:20201102T180351Z
LAST-MODIFIED:20201102T180411Z
UID:9971-1608883200-1608915600@shiawasseearts.org
SUMMARY:Merry Christmas! (Closed)
DESCRIPTION:
URL:https://shiawasseearts.org/event/merry-christmas-closed/
LOCATION:MI
END:VEVENT
BEGIN:VEVENT
DTSTART;TZID=America/New_York:20201224T120000
DTEND;TZID=America/New_York:20201224T150000
DTSTAMP:20260424T042024
CREATED:20201102T180253Z
LAST-MODIFIED:20201102T181016Z
UID:9970-1608811200-1608822000@shiawasseearts.org
SUMMARY:Merry Christmas Eve Open 9am- 3pm
DESCRIPTION:
URL:https://shiawasseearts.org/event/merry-christmas-eve-open-noon-3pm/
LOCATION:MI
END:VEVENT
BEGIN:VEVENT
DTSTART;TZID=America/New_York:20201208T100000
DTEND;TZID=America/New_York:20201208T103000
DTSTAMP:20260424T042024
CREATED:20180327T191945Z
LAST-MODIFIED:20180327T191945Z
UID:5346-1607421600-1607423400@shiawasseearts.org
SUMMARY:SMARTS at Owosso Senior Center
DESCRIPTION:Look up info about this class. 
URL:https://shiawasseearts.org/event/smarts-at-owosso-senior-center-2020-12-08/
LOCATION:MI
CATEGORIES:SMARTS
END:VEVENT
BEGIN:VEVENT
DTSTART;TZID=America/New_York:20201207T130000
DTEND;TZID=America/New_York:20201207T143000
DTSTAMP:20260424T042024
CREATED:20180320T170748Z
LAST-MODIFIED:20180320T170748Z
UID:5345-1607346000-1607351400@shiawasseearts.org
SUMMARY:SMARTS at SAC
DESCRIPTION:Look up info about this class. 
URL:https://shiawasseearts.org/event/smarts-at-sac-march-19-2020-12-07/
LOCATION:MI
CATEGORIES:SMARTS
END:VEVENT
END:VCALENDAR